BEGIN:VCALENDAR
VERSION:2.0
PRODID:-//eventon.com NONSGML v1.0//EN
BEGIN:VEVENT
UID:69ecaf6b5d1a8
DTSTAMP:20260425T081123
DTSTART:20190628T120000Z
DTEND:20190630T170000Z
TZID:UTC
LOCATION:Maryland State Fairgrounds 2200 York Rd Lutherville-Timonium\,  MD 21093
SUMMARY:The International Gem & Jewelry Show
DESCRIPTION: Hosted by Maryland State Fairgrounds Casual Attire Military Receives FREE Admission InterGem offers free admission to all Military members (Active & Veterans) and their immediate family members. Bring your Military I.D. to the ticketing booth. America&#8217;s Jewelry Marketplace Visit America’s longest running direct-to-consumer jewelry show when it visits your town![..]\nhttps://www.baltimoresnap.com/events/the-international-gem-jewelry-show/
URL:https://www.baltimoresnap.com/events/the-international-gem-jewelry-show/
END:VEVENT
END:VCALENDAR