BEGIN:VCALENDAR
VERSION:2.0
PRODID:-//eventon.com NONSGML v1.0//EN
BEGIN:VEVENT
UID:69e93b53bca33
DTSTAMP:20260422T171915
DTSTART:20190810T130000Z
DTEND:20190810T170000Z
TZID:UTC
LOCATION:Union Square Park Corner of Hollins and Stricker St. Baltimore\,  MD 21223
SUMMARY:5th Annual Union Square Crab Feast Fundraiser
DESCRIPTION: Benefits Steuart Hill Academic Academy Casual attire Tickets $55\,  Non crab eater $15\,  Children Proceeds from this event will be used to supply the local students of Steuart Hill Academic Academy with school supplies to start the year. Every ticket sold helps fill a backpack for a local Baltimore City[..]\nhttps://www.baltimoresnap.com/events/5th-annual-union-square-crab-feast-fundraiser/
URL:https://www.baltimoresnap.com/events/5th-annual-union-square-crab-feast-fundraiser/
END:VEVENT
END:VCALENDAR